BEGIN:VCALENDAR
VERSION:2.0
PRODID:-//Squarespace Inc/Squarespace 6//v6//EN
BEGIN:VEVENT
UID:5b3aa8df0e2e72e26fbbfee9@squarespace.com
DTSTAMP:20180702T224024Z
DTSTART:20181004T130000Z
DTEND:20181022T160000Z
SUMMARY:Ministry in Sumartra\, and Jakarta.
END:VEVENT
END:VCALENDAR
