BEGIN:VCALENDAR
VERSION:2.0
PRODID:-//Squarespace Inc/Squarespace 6//v6//EN
BEGIN:VEVENT
UID:5b3aaa011ae6cf0ec3f30e4a@squarespace.com
DTSTAMP:20180702T224226Z
DTSTART:20181104T150000Z
DTEND:20181126T010000Z
SUMMARY:Ministry in USA
END:VEVENT
END:VCALENDAR
